OziExplorer Map Data File Version 2.1
N-34-Г (Варшава)
c00014-A-014-034-004.gif
1 TIFF scale factor
Pulkovo 1942 (2),, 0.0000, 0.0000,WGS 84
Reserved 1
Reserved 2
Magnetic Variation,,,E
Map Projection,Transverse Mercator,PolyCal,No,AutoCalOnly,No,BSBUseWPX,No
Point01,xy, 234, 227,in, deg, 54, 0.0000,N, 21, 0.0000,E, grid, , , ,N
Point02,xy, 2555, 257,in, deg, 54, 0.0000,N, 22, 30.0000,E, grid, , , ,N
Point03,xy, 4881, 231,in, deg, 54, 0.0000,N, 24, 0.0000,E, grid, , , ,N
Point04,xy, 173, 2881,in, deg, 53, 0.0000,N, 21, 0.0000,E, grid, , , ,N
Point05,xy, 2552, 2912,in, deg, 53, 0.0000,N, 22, 30.0000,E, grid, , , ,N
Point06,xy, 4931, 2886,in, deg, 53, 0.0000,N, 24, 0.0000,E, grid, , , ,N
Point07,xy, 112, 5536,in, deg, 52, 0.0000,N, 21, 0.0000,E, grid, , , ,N
Point08,xy, 2547, 5566,in, deg, 52, 0.0000,N, 22, 30.0000,E, grid, , , ,N
Point09,xy, 4980, 5544,in, deg, 52, 0.0000,N, 24, 0.0000,E, grid, , , ,N
Point10,xy, , ,in, deg, , ,N, , ,W, grid, , , ,N
Point11,xy, , ,in, deg, , ,N, , ,W, grid, , , ,N
Point12,xy, , ,in, deg, , ,N, , ,W, grid, , , ,N
Point13,xy, , ,in, deg, , ,N, , ,W, grid, , , ,N
Point14,xy, , ,in, deg, , ,N, , ,W, grid, , , ,N
Point15,xy, , ,in, deg, , ,N, , ,W, grid, , , ,N
Point16,xy, , ,in, deg, , ,N, , ,W, grid, , , ,N
Point17,xy, , ,in, deg, , ,N, , ,W, grid, , , ,N
Point18,xy, , ,in, deg, , ,N, , ,W, grid, , , ,N
Point19,xy, , ,in, deg, , ,N, , ,W, grid, , , ,N
Point20,xy, , ,in, deg, , ,N, , ,W, grid, , , ,N
Point21,xy, , ,in, deg, , ,N, , ,W, grid, , , ,N
Point22,xy, , ,in, deg, , ,N, , ,W, grid, , , ,N
Point23,xy, , ,in, deg, , ,N, , ,W, grid, , , ,N
Point24,xy, , ,in, deg, , ,N, , ,W, grid, , , ,N
Point25,xy, , ,in, deg, , ,N, , ,W, grid, , , ,N
Point26,xy, , ,in, deg, , ,N, , ,W, grid, , , ,N
Point27,xy, , ,in, deg, , ,N, , ,W, grid, , , ,N
Point28,xy, , ,in, deg, , ,N, , ,W, grid, , , ,N
Point29,xy, , ,in, deg, , ,N, , ,W, grid, , , ,N
Point30,xy, , ,in, deg, , ,N, , ,W, grid, , , ,N
Projection Setup, 0.000000000, 21.000000000, 1.000000000, 500000.00, 0.00,,,,,
Map Feature = MF ; Map Comment = MC These follow if they exist
Track File = TF These follow if they exist
Moving Map Parameters = MM? These follow if they exist
MM0,Yes
MMPNUM,4
MMPXY,1,205,199
MMPXY,2,4909,203
MMPXY,3,5010,5575
MMPXY,4,84,5565
MMPLL,1, 20.981446, 54.010561
MMPLL,2, 24.018720, 54.010663
MMPLL,3, 24.017994, 51.987944
MMPLL,4, 20.982655, 51.988991
MM1B,42.307035
MOP,Map Open Position,0,0
IWH,Map Image Width/Height,5093,6492
