OziExplorer Map Data File Version 2.1
N-34-Â (Áûäãîù)
c00014-A-014-034-003.gif
1 TIFF scale factor
Pulkovo 1942 (2),, 0.0000, 0.0000,WGS 84
Reserved 1
Reserved 2
Magnetic Variation,,,E
Map Projection,Transverse Mercator,PolyCal,No,AutoCalOnly,No,BSBUseWPX,No
Point01,xy, 231, 233,in, deg, 54, 0.0000,N, 18, 0.0000,E, grid, , , ,N
Point02,xy, 2556, 261,in, deg, 54, 0.0000,N, 19, 30.0000,E, grid, , , ,N
Point03,xy, 4880, 233,in, deg, 54, 0.0000,N, 21, 0.0000,E, grid, , , ,N
Point04,xy, 178, 2890,in, deg, 53, 0.0000,N, 18, 0.0000,E, grid, , , ,N
Point05,xy, 2554, 2916,in, deg, 53, 0.0000,N, 19, 30.0000,E, grid, , , ,N
Point06,xy, 4931, 2893,in, deg, 53, 0.0000,N, 21, 0.0000,E, grid, , , ,N
Point07,xy, 115, 5550,in, deg, 52, 0.0000,N, 18, 0.0000,E, grid, , , ,N
Point08,xy, 2552, 5577,in, deg, 52, 0.0000,N, 19, 30.0000,E, grid, , , ,N
Point09,xy, 4985, 5550,in, deg, 52, 0.0000,N, 21, 0.0000,E, grid, , , ,N
Point10,xy, , ,in, deg, , ,N, , ,W, grid, , , ,N
Point11,xy, , ,in, deg, , ,N, , ,W, grid, , , ,N
Point12,xy, , ,in, deg, , ,N, , ,W, grid, , , ,N
Point13,xy, , ,in, deg, , ,N, , ,W, grid, , , ,N
Point14,xy, , ,in, deg, , ,N, , ,W, grid, , , ,N
Point15,xy, , ,in, deg, , ,N, , ,W, grid, , , ,N
Point16,xy, , ,in, deg, , ,N, , ,W, grid, , , ,N
Point17,xy, , ,in, deg, , ,N, , ,W, grid, , , ,N
Point18,xy, , ,in, deg, , ,N, , ,W, grid, , , ,N
Point19,xy, , ,in, deg, , ,N, , ,W, grid, , , ,N
Point20,xy, , ,in, deg, , ,N, , ,W, grid, , , ,N
Point21,xy, , ,in, deg, , ,N, , ,W, grid, , , ,N
Point22,xy, , ,in, deg, , ,N, , ,W, grid, , , ,N
Point23,xy, , ,in, deg, , ,N, , ,W, grid, , , ,N
Point24,xy, , ,in, deg, , ,N, , ,W, grid, , , ,N
Point25,xy, , ,in, deg, , ,N, , ,W, grid, , , ,N
Point26,xy, , ,in, deg, , ,N, , ,W, grid, , , ,N
Point27,xy, , ,in, deg, , ,N, , ,W, grid, , , ,N
Point28,xy, , ,in, deg, , ,N, , ,W, grid, , , ,N
Point29,xy, , ,in, deg, , ,N, , ,W, grid, , , ,N
Point30,xy, , ,in, deg, , ,N, , ,W, grid, , , ,N
Projection Setup, 0.000000000, 21.000000000, 1.000000000, 500000.00, 0.00,,,,,
Map Feature = MF ; Map Comment = MC These follow if they exist
Track File = TF These follow if they exist
Moving Map Parameters = MM? These follow if they exist
MM0,Yes
MMPNUM,4
MMPXY,1,202,204
MMPXY,2,4909,204
MMPXY,3,5017,5581
MMPXY,4,86,5581
MMPLL,1, 17.979892, 54.010451
MMPLL,2, 21.019338, 54.011343
MMPLL,3, 21.019579, 51.988078
MMPLL,4, 17.980973, 51.988203
MM1B,42.334144
MOP,Map Open Position,0,0
IWH,Map Image Width/Height,5096,6495
