OziExplorer Map Data File Version 2.1
N-34-30 (Белосток)
c00001-A-014-034-030.gif
1 TIFF scale factor
Pulkovo 1942 (2),, 0.0000, 0.0000,WGS 84
Reserved 1
Reserved 2
Magnetic Variation,,,E
Map Projection,Transverse Mercator,PolyCal,No,AutoCalOnly,No,BSBUseWPX,No
Point01,xy, 175, 233,in, deg, 53, 20.0000,N, 23, 0.0000,E, grid, , , ,N
Point02,xy, 2141, 244,in, deg, 53, 20.0000,N, 23, 30.0000,E, grid, , , ,N
Point03,xy, 4108, 235,in, deg, 53, 20.0000,N, 24, 0.0000,E, grid, , , ,N
Point04,xy, 158, 2426,in, deg, 53, 0.0000,N, 23, 0.0000,E, grid, , , ,N
Point05,xy, 2137, 2437,in, deg, 53, 0.0000,N, 23, 30.0000,E, grid, , , ,N
Point06,xy, 4120, 2428,in, deg, 53, 0.0000,N, 24, 0.0000,E, grid, , , ,N
Point07,xy, 140, 4617,in, deg, 52, 40.0000,N, 23, 0.0000,E, grid, , , ,N
Point08,xy, 2137, 4627,in, deg, 52, 40.0000,N, 23, 30.0000,E, grid, , , ,N
Point09,xy, 4133, 4620,in, deg, 52, 40.0000,N, 24, 0.0000,E, grid, , , ,N
Point10,xy, , ,in, deg, , ,N, , ,W, grid, , , ,N
Point11,xy, , ,in, deg, , ,N, , ,W, grid, , , ,N
Point12,xy, , ,in, deg, , ,N, , ,W, grid, , , ,N
Point13,xy, , ,in, deg, , ,N, , ,W, grid, , , ,N
Point14,xy, , ,in, deg, , ,N, , ,W, grid, , , ,N
Point15,xy, , ,in, deg, , ,N, , ,W, grid, , , ,N
Point16,xy, , ,in, deg, , ,N, , ,W, grid, , , ,N
Point17,xy, , ,in, deg, , ,N, , ,W, grid, , , ,N
Point18,xy, , ,in, deg, , ,N, , ,W, grid, , , ,N
Point19,xy, , ,in, deg, , ,N, , ,W, grid, , , ,N
Point20,xy, , ,in, deg, , ,N, , ,W, grid, , , ,N
Point21,xy, , ,in, deg, , ,N, , ,W, grid, , , ,N
Point22,xy, , ,in, deg, , ,N, , ,W, grid, , , ,N
Point23,xy, , ,in, deg, , ,N, , ,W, grid, , , ,N
Point24,xy, , ,in, deg, , ,N, , ,W, grid, , , ,N
Point25,xy, , ,in, deg, , ,N, , ,W, grid, , , ,N
Point26,xy, , ,in, deg, , ,N, , ,W, grid, , , ,N
Point27,xy, , ,in, deg, , ,N, , ,W, grid, , , ,N
Point28,xy, , ,in, deg, , ,N, , ,W, grid, , , ,N
Point29,xy, , ,in, deg, , ,N, , ,W, grid, , , ,N
Point30,xy, , ,in, deg, , ,N, , ,W, grid, , , ,N
Projection Setup, 0.000000000, 21.000000000, 1.000000000, 500000.00, 0.00,,,,,
Map Feature = MF ; Map Comment = MC These follow if they exist
Track File = TF These follow if they exist
Moving Map Parameters = MM? These follow if they exist
MM0,Yes
MMPNUM,4
MMPXY,1,147,204
MMPXY,2,4137,206
MMPXY,3,4164,4651
MMPXY,4,113,4645
MMPLL,1, 22.992803, 53.337938
MMPLL,2, 24.007637, 53.337895
MMPLL,3, 24.007711, 52.662048
MMPLL,4, 22.993332, 52.662507
MM1B,16.930906
MOP,Map Open Position,0,0
IWH,Map Image Width/Height,4356,4908
