OziExplorer Map Data File Version 2.1
N-34-144 (Απερς)
c00002-A-014-034-144.gif
1 TIFF scale factor
Pulkovo 1942 (2),, 0.0000, 0.0000,WGS 84
Reserved 1
Reserved 2
Magnetic Variation,0,0,E
Map Projection,Transverse Mercator,PolyCal,No,AutoCalOnly,No,BSBUseWPX,No
Point01,xy, 161, 236,in, deg, 52, 20.0000,N, 23, 30.0000,E, grid, , , ,N
Point02,xy, 2194, 240,in, deg, 52, 20.0000,N, 23, 45.0000,E, grid, , , ,N
Point03,xy, 4225, 235,in, deg, 52, 20.0000,N, 24, 0.0000,E, grid, , , ,N
Point04,xy, 154, 2432,in, deg, 52, 10.0000,N, 23, 30.0000,E, grid, , , ,N
Point05,xy, 2195, 2431,in, deg, 52, 10.0000,N, 23, 45.0000,E, grid, , , ,N
Point06,xy, 4236, 2432,in, deg, 52, 10.0000,N, 24, 0.0000,E, grid, , , ,N
Point07,xy, 154, 4630,in, deg, 52, 0.0000,N, 23, 30.0000,E, grid, , , ,N
Point08,xy, 2197, 4629,in, deg, 52, 0.0000,N, 23, 45.0000,E, grid, , , ,N
Point09,xy, 4243, 4630,in, deg, 52, 0.0000,N, 24, 0.0000,E, grid, , , ,N
Point10,xy, , ,in, deg, , ,N, , ,W, grid, , , ,N
Point11,xy, , ,in, deg, , ,N, , ,W, grid, , , ,N
Point12,xy, , ,in, deg, , ,N, , ,W, grid, , , ,N
Point13,xy, , ,in, deg, , ,N, , ,W, grid, , , ,N
Point14,xy, , ,in, deg, , ,N, , ,W, grid, , , ,N
Point15,xy, , ,in, deg, , ,N, , ,W, grid, , , ,N
Point16,xy, , ,in, deg, , ,N, , ,W, grid, , , ,N
Point17,xy, , ,in, deg, , ,N, , ,W, grid, , , ,N
Point18,xy, , ,in, deg, , ,N, , ,W, grid, , , ,N
Point19,xy, , ,in, deg, , ,N, , ,W, grid, , , ,N
Point20,xy, , ,in, deg, , ,N, , ,W, grid, , , ,N
Point21,xy, , ,in, deg, , ,N, , ,W, grid, , , ,N
Point22,xy, , ,in, deg, , ,N, , ,W, grid, , , ,N
Point23,xy, , ,in, deg, , ,N, , ,W, grid, , , ,N
Point24,xy, , ,in, deg, , ,N, , ,W, grid, , , ,N
Point25,xy, , ,in, deg, , ,N, , ,W, grid, , , ,N
Point26,xy, , ,in, deg, , ,N, , ,W, grid, , , ,N
Point27,xy, , ,in, deg, , ,N, , ,W, grid, , , ,N
Point28,xy, , ,in, deg, , ,N, , ,W, grid, , , ,N
Point29,xy, , ,in, deg, , ,N, , ,W, grid, , , ,N
Point30,xy, , ,in, deg, , ,N, , ,W, grid, , , ,N
Projection Setup, 0.000000000, 21.000000000, 1.000000000, 500000.00, 0.00,,,,,
Map Feature = MF ; Map Comment = MC These follow if they exist
Track File = TF These follow if they exist
Moving Map Parameters = MM? These follow if they exist
MM0,Yes
MMPNUM,4
MMPXY,1,133,207
MMPXY,2,4256,205
MMPXY,3,4274,4661
MMPXY,4,127,4659
MMPLL,1, 23.496476, 52.335498
MMPLL,2, 24.003876, 52.335596
MMPLL,3, 24.003578, 51.997484
MMPLL,4, 23.497080, 51.997636
MM1B,8.382964
MOP,Map Open Position,0,0
IWH,Map Image Width/Height,4503,5060
