OziExplorer Map Data File Version 2.1
N-34-143 (Бяла-Подляска)
c00002-A-014-034-143.gif
1 TIFF scale factor
Pulkovo 1942 (2),, 0.0000, 0.0000,WGS 84
Reserved 1
Reserved 2
Magnetic Variation,0,0,E
Map Projection,Transverse Mercator,PolyCal,No,AutoCalOnly,No,BSBUseWPX,No
Point01,xy, 157, 246,in, deg, 52, 20.0000,N, 23, 0.0000,E, grid, , , ,N
Point02,xy, 2189, 251,in, deg, 52, 20.0000,N, 23, 15.0000,E, grid, , , ,N
Point03,xy, 4218, 245,in, deg, 52, 20.0000,N, 23, 30.0000,E, grid, , , ,N
Point04,xy, 151, 2441,in, deg, 52, 10.0000,N, 23, 0.0000,E, grid, , , ,N
Point05,xy, 2190, 2444,in, deg, 52, 10.0000,N, 23, 15.0000,E, grid, , , ,N
Point06,xy, 4229, 2443,in, deg, 52, 10.0000,N, 23, 30.0000,E, grid, , , ,N
Point07,xy, 145, 4638,in, deg, 52, 0.0000,N, 23, 0.0000,E, grid, , , ,N
Point08,xy, 2190, 4638,in, deg, 52, 0.0000,N, 23, 15.0000,E, grid, , , ,N
Point09,xy, 4234, 4639,in, deg, 52, 0.0000,N, 23, 30.0000,E, grid, , , ,N
Point10,xy, , ,in, deg, , ,N, , ,W, grid, , , ,N
Point11,xy, , ,in, deg, , ,N, , ,W, grid, , , ,N
Point12,xy, , ,in, deg, , ,N, , ,W, grid, , , ,N
Point13,xy, , ,in, deg, , ,N, , ,W, grid, , , ,N
Point14,xy, , ,in, deg, , ,N, , ,W, grid, , , ,N
Point15,xy, , ,in, deg, , ,N, , ,W, grid, , , ,N
Point16,xy, , ,in, deg, , ,N, , ,W, grid, , , ,N
Point17,xy, , ,in, deg, , ,N, , ,W, grid, , , ,N
Point18,xy, , ,in, deg, , ,N, , ,W, grid, , , ,N
Point19,xy, , ,in, deg, , ,N, , ,W, grid, , , ,N
Point20,xy, , ,in, deg, , ,N, , ,W, grid, , , ,N
Point21,xy, , ,in, deg, , ,N, , ,W, grid, , , ,N
Point22,xy, , ,in, deg, , ,N, , ,W, grid, , , ,N
Point23,xy, , ,in, deg, , ,N, , ,W, grid, , , ,N
Point24,xy, , ,in, deg, , ,N, , ,W, grid, , , ,N
Point25,xy, , ,in, deg, , ,N, , ,W, grid, , , ,N
Point26,xy, , ,in, deg, , ,N, , ,W, grid, , , ,N
Point27,xy, , ,in, deg, , ,N, , ,W, grid, , , ,N
Point28,xy, , ,in, deg, , ,N, , ,W, grid, , , ,N
Point29,xy, , ,in, deg, , ,N, , ,W, grid, , , ,N
Point30,xy, , ,in, deg, , ,N, , ,W, grid, , , ,N
Projection Setup, 0.000000000, 21.000000000, 1.000000000, 500000.00, 0.00,,,,,
Map Feature = MF ; Map Comment = MC These follow if they exist
Track File = TF These follow if they exist
Moving Map Parameters = MM? These follow if they exist
MM0,Yes
MMPNUM,4
MMPXY,1,127,219
MMPXY,2,4248,216
MMPXY,3,4264,4668
MMPXY,4,115,4668
MMPLL,1, 22.996172, 52.335368
MMPLL,2, 23.503615, 52.335626
MMPLL,3, 23.503448, 51.997684
MMPLL,4, 22.996414, 51.997610
MM1B,8.388478
MOP,Map Open Position,0,0
IWH,Map Image Width/Height,4495,5068
