OziExplorer Map Data File Version 2.1
N-34-120 (Хайнувка)
c00002-A-014-034-120.gif
1 TIFF scale factor
Pulkovo 1942 (2),, 0.0000, 0.0000,WGS 84
Reserved 1
Reserved 2
Magnetic Variation,0,0,E
Map Projection,Transverse Mercator,PolyCal,No,AutoCalOnly,No,BSBUseWPX,No
Point01,xy, 157, 247,in, deg, 53, 0.0000,N, 23, 30.0000,E, grid, , , ,N
Point02,xy, 2158, 250,in, deg, 53, 0.0000,N, 23, 45.0000,E, grid, , , ,N
Point03,xy, 4159, 243,in, deg, 53, 0.0000,N, 24, 0.0000,E, grid, , , ,N
Point04,xy, 153, 2438,in, deg, 52, 50.0000,N, 23, 30.0000,E, grid, , , ,N
Point05,xy, 2161, 2441,in, deg, 52, 50.0000,N, 23, 45.0000,E, grid, , , ,N
Point06,xy, 4173, 2436,in, deg, 52, 50.0000,N, 24, 0.0000,E, grid, , , ,N
Point07,xy, 152, 4627,in, deg, 52, 40.0000,N, 23, 30.0000,E, grid, , , ,N
Point08,xy, 2166, 4630,in, deg, 52, 40.0000,N, 23, 45.0000,E, grid, , , ,N
Point09,xy, 4182, 4627,in, deg, 52, 40.0000,N, 24, 0.0000,E, grid, , , ,N
Point10,xy, , ,in, deg, , ,N, , ,W, grid, , , ,N
Point11,xy, , ,in, deg, , ,N, , ,W, grid, , , ,N
Point12,xy, , ,in, deg, , ,N, , ,W, grid, , , ,N
Point13,xy, , ,in, deg, , ,N, , ,W, grid, , , ,N
Point14,xy, , ,in, deg, , ,N, , ,W, grid, , , ,N
Point15,xy, , ,in, deg, , ,N, , ,W, grid, , , ,N
Point16,xy, , ,in, deg, , ,N, , ,W, grid, , , ,N
Point17,xy, , ,in, deg, , ,N, , ,W, grid, , , ,N
Point18,xy, , ,in, deg, , ,N, , ,W, grid, , , ,N
Point19,xy, , ,in, deg, , ,N, , ,W, grid, , , ,N
Point20,xy, , ,in, deg, , ,N, , ,W, grid, , , ,N
Point21,xy, , ,in, deg, , ,N, , ,W, grid, , , ,N
Point22,xy, , ,in, deg, , ,N, , ,W, grid, , , ,N
Point23,xy, , ,in, deg, , ,N, , ,W, grid, , , ,N
Point24,xy, , ,in, deg, , ,N, , ,W, grid, , , ,N
Point25,xy, , ,in, deg, , ,N, , ,W, grid, , , ,N
Point26,xy, , ,in, deg, , ,N, , ,W, grid, , , ,N
Point27,xy, , ,in, deg, , ,N, , ,W, grid, , , ,N
Point28,xy, , ,in, deg, , ,N, , ,W, grid, , , ,N
Point29,xy, , ,in, deg, , ,N, , ,W, grid, , , ,N
Point30,xy, , ,in, deg, , ,N, , ,W, grid, , , ,N
Projection Setup, 0.000000000, 21.000000000, 1.000000000, 500000.00, 0.00,,,,,
Map Feature = MF ; Map Comment = MC These follow if they exist
Track File = TF These follow if they exist
Moving Map Parameters = MM? These follow if they exist
MM0,Yes
MMPNUM,4
MMPXY,1,128,218
MMPXY,2,4190,213
MMPXY,3,4211,4658
MMPXY,4,123,4657
MMPLL,1, 23.496368, 53.002200
MMPLL,2, 24.003900, 53.002400
MMPLL,3, 24.003448, 52.664249
MMPLL,4, 23.496621, 52.664454
MM1B,8.382394
MOP,Map Open Position,0,0
IWH,Map Image Width/Height,4442,5063
